BEGIN:VCALENDAR
VERSION:2.0
PRODID:-//Imkerverein Gießen und Umgebung - ECPv6.15.20//NONSGML v1.0//EN
CALSCALE:GREGORIAN
METHOD:PUBLISH
X-ORIGINAL-URL:https://imker-giessen.de
X-WR-CALDESC:Veranstaltungen für Imkerverein Gießen und Umgebung
REFRESH-INTERVAL;VALUE=DURATION:PT1H
X-Robots-Tag:noindex
X-PUBLISHED-TTL:PT1H
BEGIN:VTIMEZONE
TZID:Europe/Berlin
BEGIN:DAYLIGHT
TZOFFSETFROM:+0100
TZOFFSETTO:+0200
TZNAME:CEST
DTSTART:20240331T010000
END:DAYLIGHT
BEGIN:STANDARD
TZOFFSETFROM:+0200
TZOFFSETTO:+0100
TZNAME:CET
DTSTART:20241027T010000
END:STANDARD
BEGIN:DAYLIGHT
TZOFFSETFROM:+0100
TZOFFSETTO:+0200
TZNAME:CEST
DTSTART:20250330T010000
END:DAYLIGHT
BEGIN:STANDARD
TZOFFSETFROM:+0200
TZOFFSETTO:+0100
TZNAME:CET
DTSTART:20251026T010000
END:STANDARD
BEGIN:DAYLIGHT
TZOFFSETFROM:+0100
TZOFFSETTO:+0200
TZNAME:CEST
DTSTART:20260329T010000
END:DAYLIGHT
BEGIN:STANDARD
TZOFFSETFROM:+0200
TZOFFSETTO:+0100
TZNAME:CET
DTSTART:20261025T010000
END:STANDARD
END:VTIMEZONE
BEGIN:VEVENT
DTSTART;TZID=Europe/Berlin:20250427T100000
DTEND;TZID=Europe/Berlin:20250427T170000
DTSTAMP:20260425T123433
CREATED:20250326T175909Z
LAST-MODIFIED:20250326T175941Z
UID:4622-1745748000-1745773200@imker-giessen.de
SUMMARY:Besuchertag Bieneninstitut Kirchhain
DESCRIPTION:Alle zwei Jahre veranstaltet das Bieneninstitut Kirchhain einen Besuchertag für das interessierte Publikum. Dort bieten sich für Imkerinnen und Imker\, aber auch für Naturinteressierte Einblicke in die Welt der Bienen. \n\n\n\nDie Freunde des Bieninstitut Kirchhain sorgen für die Bewirtung der Gäste mit Getränken und Grillwürstchen sowie Kaffee und Kuchen. \n\n\n\n \n\n\n\n\nhttps://www.fdbk.de/besuchertage-des-bieneninstitut-kirchhain/#:~:text=Der%20Besuchertag%202025%20findet%20am\,in%20die%20Welt%20der%20Bienen.
URL:https://imker-giessen.de/event/besuchertag-bieneninstitut-kirchhain/
END:VEVENT
END:VCALENDAR