BEGIN:VCALENDAR
VERSION:2.0
PRODID:-//Imkerverein Gießen und Umgebung - ECPv6.15.20//NONSGML v1.0//EN
CALSCALE:GREGORIAN
METHOD:PUBLISH
X-ORIGINAL-URL:https://imker-giessen.de
X-WR-CALDESC:Veranstaltungen für Imkerverein Gießen und Umgebung
REFRESH-INTERVAL;VALUE=DURATION:PT1H
X-Robots-Tag:noindex
X-PUBLISHED-TTL:PT1H
BEGIN:VTIMEZONE
TZID:Europe/Berlin
BEGIN:DAYLIGHT
TZOFFSETFROM:+0100
TZOFFSETTO:+0200
TZNAME:CEST
DTSTART:20240331T010000
END:DAYLIGHT
BEGIN:STANDARD
TZOFFSETFROM:+0200
TZOFFSETTO:+0100
TZNAME:CET
DTSTART:20241027T010000
END:STANDARD
BEGIN:DAYLIGHT
TZOFFSETFROM:+0100
TZOFFSETTO:+0200
TZNAME:CEST
DTSTART:20250330T010000
END:DAYLIGHT
BEGIN:STANDARD
TZOFFSETFROM:+0200
TZOFFSETTO:+0100
TZNAME:CET
DTSTART:20251026T010000
END:STANDARD
BEGIN:DAYLIGHT
TZOFFSETFROM:+0100
TZOFFSETTO:+0200
TZNAME:CEST
DTSTART:20260329T010000
END:DAYLIGHT
BEGIN:STANDARD
TZOFFSETFROM:+0200
TZOFFSETTO:+0100
TZNAME:CET
DTSTART:20261025T010000
END:STANDARD
END:VTIMEZONE
BEGIN:VEVENT
DTSTART;TZID=Europe/Berlin:20250819T193000
DTEND;TZID=Europe/Berlin:20250819T210000
DTSTAMP:20260425T055548
CREATED:20250407T091714Z
LAST-MODIFIED:20250506T182117Z
UID:4643-1755631800-1755637200@imker-giessen.de
SUMMARY:Vortrag Bienenkrankheiten
DESCRIPTION:Vortrag mit Jörg Freyer\, Lehrbeauftragter der LLHs\, zum Thema „Bienenkrankheiten Erkennen\, Behandlung\, Prävention“. \n\n\n\nDer Vortrag findet am 19.08. in der Evangelische Gesamtkirchengemeinde Gießen Mitte (Georg-Schlosser-Straße 7\, 35390 Gießen) statt. Die direkten Parkplätze sind stark begrenzt. Kostenpflichtige Parkmöglichkeiten bestehen im Neustädter Tor und auf dem Parkplatz des Zeughauses.
URL:https://imker-giessen.de/event/vortrag-eigene-betriebsweise-entwickeln/
END:VEVENT
BEGIN:VEVENT
DTSTART;TZID=Europe/Berlin:20250828T190000
DTEND;TZID=Europe/Berlin:20250828T210000
DTSTAMP:20260425T055548
CREATED:20241216T202502Z
LAST-MODIFIED:20250827T145610Z
UID:4473-1756407600-1756414800@imker-giessen.de
SUMMARY:Imkerstammtisch
DESCRIPTION:Imkerstammtisch  in der Pizzeria „Zur guten Quelle“ in der Grünberger Straße.
URL:https://imker-giessen.de/event/imkerstammtisch-19/
ATTACH;FMTTYPE=image/png:https://imker-giessen.de/wp-content/uploads/2024/04/Logo-Imkerstammtisch-11.png
END:VEVENT
END:VCALENDAR