BEGIN:VCALENDAR
VERSION:2.0
PRODID:-//Imkerverein Gießen und Umgebung - ECPv6.15.20//NONSGML v1.0//EN
CALSCALE:GREGORIAN
METHOD:PUBLISH
X-ORIGINAL-URL:https://imker-giessen.de
X-WR-CALDESC:Veranstaltungen für Imkerverein Gießen und Umgebung
REFRESH-INTERVAL;VALUE=DURATION:PT1H
X-Robots-Tag:noindex
X-PUBLISHED-TTL:PT1H
BEGIN:VTIMEZONE
TZID:Europe/Berlin
BEGIN:DAYLIGHT
TZOFFSETFROM:+0100
TZOFFSETTO:+0200
TZNAME:CEST
DTSTART:20240331T010000
END:DAYLIGHT
BEGIN:STANDARD
TZOFFSETFROM:+0200
TZOFFSETTO:+0100
TZNAME:CET
DTSTART:20241027T010000
END:STANDARD
BEGIN:DAYLIGHT
TZOFFSETFROM:+0100
TZOFFSETTO:+0200
TZNAME:CEST
DTSTART:20250330T010000
END:DAYLIGHT
BEGIN:STANDARD
TZOFFSETFROM:+0200
TZOFFSETTO:+0100
TZNAME:CET
DTSTART:20251026T010000
END:STANDARD
BEGIN:DAYLIGHT
TZOFFSETFROM:+0100
TZOFFSETTO:+0200
TZNAME:CEST
DTSTART:20260329T010000
END:DAYLIGHT
BEGIN:STANDARD
TZOFFSETFROM:+0200
TZOFFSETTO:+0100
TZNAME:CET
DTSTART:20261025T010000
END:STANDARD
END:VTIMEZONE
BEGIN:VEVENT
DTSTART;TZID=Europe/Berlin:20251123T093000
DTEND;TZID=Europe/Berlin:20251123T170000
DTSTAMP:20260425T023034
CREATED:20250320T174746Z
LAST-MODIFIED:20250320T174752Z
UID:4613-1763890200-1763917200@imker-giessen.de
SUMMARY:Hessischer Honigtag in Erbach
DESCRIPTION:16. Hessischer Honigtag des Landesverbandes Hessischer Imker e.V. mit traditioneller Honigprämierung.
URL:https://imker-giessen.de/event/hessischer-honigtag-in-erbach/
END:VEVENT
BEGIN:VEVENT
DTSTART;TZID=Europe/Berlin:20251127T193000
DTEND;TZID=Europe/Berlin:20251127T200000
DTSTAMP:20260425T023034
CREATED:20251106T201421Z
LAST-MODIFIED:20251106T201425Z
UID:4697-1764271800-1764273600@imker-giessen.de
SUMMARY:Vortrag Belegstelle Waldhaus
DESCRIPTION:Stefan Schellenberg wird als Belegstellenleiter der Belegstelle Waldhaus in Krofdorf einen Vortrag zur Belegstelle und deren Entwicklung halten. \n\n\n\n \n\n\n\nDer Vortrag findet in der Evangelische Gesamtkirchengemeinde Gießen Mitte (Georg-Schlosser-Straße 7\, 35390 Gießen) statt. Die direkten Parkplätze sind stark begrenzt. Kostenpflichtige Parkmöglichkeiten bestehen im Neustädter Tor und auf dem Parkplatz des Zeughauses.
URL:https://imker-giessen.de/event/vortrag-belegstelle-waldhaus/
END:VEVENT
END:VCALENDAR