BEGIN:VCALENDAR
VERSION:2.0
PRODID:-//Imkerverein Gießen und Umgebung - ECPv6.15.20//NONSGML v1.0//EN
CALSCALE:GREGORIAN
METHOD:PUBLISH
X-WR-CALNAME:Imkerverein Gießen und Umgebung
X-ORIGINAL-URL:https://imker-giessen.de
X-WR-CALDESC:Veranstaltungen für Imkerverein Gießen und Umgebung
REFRESH-INTERVAL;VALUE=DURATION:PT1H
X-Robots-Tag:noindex
X-PUBLISHED-TTL:PT1H
BEGIN:VTIMEZONE
TZID:Europe/Berlin
BEGIN:DAYLIGHT
TZOFFSETFROM:+0100
TZOFFSETTO:+0200
TZNAME:CEST
DTSTART:20250330T010000
END:DAYLIGHT
BEGIN:STANDARD
TZOFFSETFROM:+0200
TZOFFSETTO:+0100
TZNAME:CET
DTSTART:20251026T010000
END:STANDARD
BEGIN:DAYLIGHT
TZOFFSETFROM:+0100
TZOFFSETTO:+0200
TZNAME:CEST
DTSTART:20260329T010000
END:DAYLIGHT
BEGIN:STANDARD
TZOFFSETFROM:+0200
TZOFFSETTO:+0100
TZNAME:CET
DTSTART:20261025T010000
END:STANDARD
BEGIN:DAYLIGHT
TZOFFSETFROM:+0100
TZOFFSETTO:+0200
TZNAME:CEST
DTSTART:20270328T010000
END:DAYLIGHT
BEGIN:STANDARD
TZOFFSETFROM:+0200
TZOFFSETTO:+0100
TZNAME:CET
DTSTART:20271031T010000
END:STANDARD
END:VTIMEZONE
BEGIN:VEVENT
DTSTART;TZID=Europe/Berlin:20260207T160000
DTEND;TZID=Europe/Berlin:20260207T170000
DTSTAMP:20260424T231828
CREATED:20260205T202319Z
LAST-MODIFIED:20260224T203045Z
UID:4723-1770480000-1770483600@imker-giessen.de
SUMMARY:Jahreshauptversammlung
DESCRIPTION:Der Vorstand des Imkervereins lädt Dich zur Jahreshauptversammlung ein. \n\n\n\nDie Veranstaltung findet am 07.02.206 ab 16 Uhr im Gemeindehaus der Evangelischen Martinsgemeinde in der Schubertstraße 3 in Heuchelheim statt. \n\n\n\nIm Anschluss an die Versammlung findet der „Empfang zum neuen Bienenjahr“ zum weiteren Austausch statt. Für Fingerfood und Getränke ist gesorgt.
URL:https://imker-giessen.de/event/jahreshauptversammlung-2/
END:VEVENT
BEGIN:VEVENT
DTSTART;TZID=Europe/Berlin:20260226T190000
DTEND;TZID=Europe/Berlin:20260226T210000
DTSTAMP:20260424T231828
CREATED:20260205T202533Z
LAST-MODIFIED:20260205T202537Z
UID:4725-1772132400-1772139600@imker-giessen.de
SUMMARY:Imkerstammtisch
DESCRIPTION:Imkerstammtisch  in der Pizzeria „Zur guten Quelle“ in der Grünberger Straße.
URL:https://imker-giessen.de/event/imkerstammtisch-3/
ATTACH;FMTTYPE=image/png:https://imker-giessen.de/wp-content/uploads/2024/04/Logo-Imkerstammtisch-11.png
END:VEVENT
BEGIN:VEVENT
DTSTART;TZID=Europe/Berlin:20260228T090000
DTEND;TZID=Europe/Berlin:20260228T170000
DTSTAMP:20260424T231828
CREATED:20260205T204155Z
LAST-MODIFIED:20260205T204945Z
UID:4752-1772269200-1772298000@imker-giessen.de
SUMMARY:Honiglehrgang 12 Gießen Kursjahr 25/26 - Tag 1
DESCRIPTION:An zwei Lehrgangstagen wird den Teilnehmern das Wissen für die Herstellung von Qualitätshonig vermittelt. Mit der Teilnahme erwirbt der Imker den Sachkundenachweis zur Nutzung des DIB Warenzeichens. \n\n\n\nZielgruppe: Alle Imker\, die verantwortungsvoll mit dem Lebensmittel Honig umgehen möchten. \n\n\n\nOrt: 35452 Heuchelheim \n\n\n\nSchwerpunkte \n\n\n\nHerkunft der Honigrohstoffe\, Honigentstehung im Bienenvolk\, Honigernte\, Honigpflege\, Abfüllen und Lagern\, das Imker-Honigglas\, Vermarktung und Produktpräsentation\, Warenzeichenbestimmungen\, Honigbewertung\, Sauberkeit und Hygiene\, Gefahren für den Honig\, Honigverkostung. \n\n\n\nPreise \n\n\n\nDer Preis für die Buchung beträgt regulär 69 €. Bei Mitgliedern des LHI\, die ihre Mitgliedsnummer und ihre Registriernummer des Veterinäramtes angeben\, wird automatisch ein Preis 39€ angezeigt.Ein nachträglicher Erlass der Kursgebühr ist leider nicht möglich. \n\n\n\nAnmeldung im Kursportal des LHI
URL:https://imker-giessen.de/event/honiglehrgang-12-giessen-kursjahr-25-26-tag-1/
ATTACH;FMTTYPE=image/png:https://imker-giessen.de/wp-content/uploads/2026/02/Bildschirmfoto-2026-02-05-um-21.42.29.png
END:VEVENT
END:VCALENDAR