BEGIN:VCALENDAR
VERSION:2.0
PRODID:-//Imkerverein Gießen und Umgebung - ECPv6.15.20//NONSGML v1.0//EN
CALSCALE:GREGORIAN
METHOD:PUBLISH
X-ORIGINAL-URL:https://imker-giessen.de
X-WR-CALDESC:Veranstaltungen für Imkerverein Gießen und Umgebung
REFRESH-INTERVAL;VALUE=DURATION:PT1H
X-Robots-Tag:noindex
X-PUBLISHED-TTL:PT1H
BEGIN:VTIMEZONE
TZID:Europe/Berlin
BEGIN:DAYLIGHT
TZOFFSETFROM:+0100
TZOFFSETTO:+0200
TZNAME:CEST
DTSTART:20250330T010000
END:DAYLIGHT
BEGIN:STANDARD
TZOFFSETFROM:+0200
TZOFFSETTO:+0100
TZNAME:CET
DTSTART:20251026T010000
END:STANDARD
BEGIN:DAYLIGHT
TZOFFSETFROM:+0100
TZOFFSETTO:+0200
TZNAME:CEST
DTSTART:20260329T010000
END:DAYLIGHT
BEGIN:STANDARD
TZOFFSETFROM:+0200
TZOFFSETTO:+0100
TZNAME:CET
DTSTART:20261025T010000
END:STANDARD
BEGIN:DAYLIGHT
TZOFFSETFROM:+0100
TZOFFSETTO:+0200
TZNAME:CEST
DTSTART:20270328T010000
END:DAYLIGHT
BEGIN:STANDARD
TZOFFSETFROM:+0200
TZOFFSETTO:+0100
TZNAME:CET
DTSTART:20271031T010000
END:STANDARD
END:VTIMEZONE
BEGIN:VEVENT
DTSTART;TZID=Europe/Berlin:20260301T090000
DTEND;TZID=Europe/Berlin:20260301T170000
DTSTAMP:20260424T222449
CREATED:20260205T204446Z
LAST-MODIFIED:20260205T204900Z
UID:4756-1772355600-1772384400@imker-giessen.de
SUMMARY:Honiglehrgang 12 Gießen Kursjahr 25/26 - Tag 2
DESCRIPTION:An zwei Lehrgangstagen wird den Teilnehmern das Wissen für die Herstellung von Qualitätshonig vermittelt. Mit der Teilnahme erwirbt der Imker den Sachkundenachweis zur Nutzung des DIB Warenzeichens. \n\n\n\nZielgruppe: Alle Imker\, die verantwortungsvoll mit dem Lebensmittel Honig umgehen möchten. \n\n\n\nOrt: 35452 Heuchelheim \n\n\n\nSchwerpunkte \n\n\n\nHerkunft der Honigrohstoffe\, Honigentstehung im Bienenvolk\, Honigernte\, Honigpflege\, Abfüllen und Lagern\, das Imker-Honigglas\, Vermarktung und Produktpräsentation\, Warenzeichenbestimmungen\, Honigbewertung\, Sauberkeit und Hygiene\, Gefahren für den Honig\, Honigverkostung.
URL:https://imker-giessen.de/event/honiglehrgang-12-giessen-kursjahr-25-26-tag-2/
ATTACH;FMTTYPE=image/png:https://imker-giessen.de/wp-content/uploads/2026/02/Bildschirmfoto-2026-02-05-um-21.42.29.png
END:VEVENT
BEGIN:VEVENT
DTSTART;TZID=Europe/Berlin:20260321T090000
DTEND;TZID=Europe/Berlin:20260321T170000
DTSTAMP:20260424T222449
CREATED:20260205T203716Z
LAST-MODIFIED:20260205T204803Z
UID:4745-1774083600-1774112400@imker-giessen.de
SUMMARY:Grundkurs Bienenhege 12 Heuchelheim Kursjahr 25/26 - Tag 1
DESCRIPTION:Der Grundkurs Bienenhege besteht aus drei Lehrgangstagen. \n\n\n\nIn diesem Lehrgang werden Kenntnisse und Fertigkeiten zu den erforderlichen Arbeiten im Bienenjahr vermittelt. Lernziel ist das Führen der Völker durch das Bienenjahr mit besonderen Schwerpunkten auf gesundem Einwintern und sicherem\, erfolgreichem Auswintern.  \n\n\n\nSchwerpunkte \n\n\n\nBauliche Einrichtungen\, Standplatz\, Frühjahrsarbeiten\, Erweiterung\, Rähmchen\, Beuten\, Völkerbeurteilung\, Verwandte unserer Honigbienen/Wildbienen\, Schwarmkontrolle\, Schwarmverhinderung\, Ablegerbildung\, einfachste Königinnenaufzucht\, Honigentnahme\, Hygienestandards Kenntnisse und Fertigkeiten für eine erfolgreiche Jungvolkbildung und Königinnenvermehrung Jungvolkpflege\, Spätsommerpflege\, Varroose und andere Bienenkrankheiten\, Einwinterung (Auszug) \n\n\n\nTag 1:Standplatz\, Rähmchen\, Beuten\, Frühjahrsarbeiten\, Erweiterung\, Völkerbeurteilung\, Bienenbiologie \n\n\n\nTag 2:Schwarmkontrolle\, Schwarmverhinderung\, Ablegerbildung\, einfache Königinnenaufzucht \n\n\n\nTag 3:Jungvolkpflege\, Spätsommerpflege\, Varroabiologie\, Varroabehandlung\, Einwinterung \n\n\n\nAnmeldung im Schulungsportal des LHI
URL:https://imker-giessen.de/event/grundkurs-bienenhege-12-heuchelheim-kursjahr-25-26-tag-1/
ATTACH;FMTTYPE=image/png:https://imker-giessen.de/wp-content/uploads/2026/02/Bildschirmfoto-2026-02-05-um-21.46.22.png
END:VEVENT
BEGIN:VEVENT
DTSTART;TZID=Europe/Berlin:20260326T193000
DTEND;TZID=Europe/Berlin:20260326T210000
DTSTAMP:20260424T222449
CREATED:20260205T202612Z
LAST-MODIFIED:20260324T105955Z
UID:4727-1774553400-1774558800@imker-giessen.de
SUMMARY:Vortrag "Königinnenzucht"
DESCRIPTION:Anstelle des Imkerstammtisches wird es einen Vortrag von Herrn Helmut Lerch zum Thema „Königinnenzucht“ geben. Wir freuen uns Herr Lerch\, als Lehrbeauftragter des LHI und stellvertretenden Obmann Landwirtschaft\, bei uns begrüßen zu dürfen! \n\n\n\nDer Vortrag wird am 26.03.2026 ab 19:30 im Gemeindehaus der Evangelischen Martinsgemeinde in der Schubertstraße 3 in Heuchelheim stattfinden.  \n\n\n\n \n\n\n\nKostenlose Parkplätze sind vorhanden.
URL:https://imker-giessen.de/event/imkerstammtisch-4/
ATTACH;FMTTYPE=image/png:https://imker-giessen.de/wp-content/uploads/2024/04/Logo-Imkerstammtisch-11.png
END:VEVENT
END:VCALENDAR